BEGIN:VCALENDAR
VERSION:2.0
PRODID:spatie/icalendar-generator
DESCRIPTION:Events from mccallumbros
X-WR-CALDESC:Events from mccallumbros
REFRESH-INTERVAL;VALUE=DURATION:PT1440M
X-PUBLISHED-TTL:PT1440M
BEGIN:VTIMEZONE
TZID:Pacific/Auckland
BEGIN:STANDARD
DTSTART:20240407T030000Z
TZOFFSETFROM:+1300
TZOFFSETTO:+1200
END:STANDARD
BEGIN:DAYLIGHT
DTSTART:20240929T020000Z
TZOFFSETFROM:+1200
TZOFFSETTO:+1300
END:DAYLIGHT
END:VTIMEZONE
BEGIN:VTIMEZONE
TZID:UTC
BEGIN:STANDARD
DTSTART:20250725T125721Z
TZOFFSETFROM:+0000
TZOFFSETTO:+0000
END:STANDARD
END:VTIMEZONE
BEGIN:VEVENT
UID:137-137
DTSTAMP:20260421T125721Z
SUMMARY:sand extraction
LOCATION:
ORGANIZER;CN=Magus:MAILTO:eoin@magus.co.nz
DTSTART;TZID=Pacific/Auckland:20240919T000000
DTEND;TZID=Pacific/Auckland:20240919T010000
X-ALT-DESC;FMTTYPE=TEXT/HTML:
CATEGORIES:General
URL;VALUE=URI:https://mccallumbros.co.nz/mc-events/sand-extraction-86/
METHOD:PUBLISH
END:VEVENT
END:VCALENDAR